Workbook

Sheet Description of Contents
A1: Page tab "Nxk" corresponds to an N-agent game where each agent has k strategies
A3: Unless otherwise indicted, alterning play always uses learning rates 4 times as large (which is consistent with the bounds for allowed selection of learning rates)
A4: On the last two tabs, Alternating gradient uses the same, and two times as large learning rates respectively as the optimistic methods
A6: OptDist = distance using standard implementation of optimistic gradient descent
A7: OptItComp = Number of Iterations Completed for optimistic gradient descent
A9: OptDist = distance using standard implementation of optimistic gradient descent
A10: OptItComp = Number of Iterations Completed for optimistic gradient descent
A12: OptStorageDist = distance using optimized implementation of optimistic gradient descent
A13: OptStorageItComp = Number of Iterations Completed for optimized implementation optimistic gradient descent
A15: AltDist = distance using standard implementation of alternating gradient descent
A16: AltItComp = Number of Iterations Completed for alternating gradient descent
A18: Each instance runs for 30 seconds using the respective algorithm

Sheet Summary Statistics
C1: ='5x5'!J1 -> 5x5 | D1: ='5x5'!K1 -> OptDist/AltDist | E1: ='5x5'!L1 -> OptStorageDist/AltDist
C2: ='5x5'!J2 -> average | D2: ='5x5'!K2 -> 2.5043502 | E2: ='5x5'!L2 -> 1.821953
C3: ='5x5'!J3 -> Standard Error | D3: ='5x5'!K3 -> 0.074699827 | E3: ='5x5'!L3 -> 0.052025515
C4: ='5x5'!J4 -> LB | D4: ='5x5'!K4 -> 2.3515719 | E4: ='5x5'!L4 -> 1.7155489
C5: ='5x5'!J5 -> UP | D5: ='5x5'!K5 -> 2.6571285 | E5: ='5x5'!L5 -> 1.9283571
C6: ='10x5'!J1 -> 10x5 | D6: ='10x5'!K1 -> OptDist/AltDist | E6: ='10x5'!L1 -> OptStorageDist/AltDist
C7: ='10x5'!J2 -> average | D7: ='10x5'!K2 -> 2.5361699 | E7: ='10x5'!L2 -> 1.7470141
C8: ='10x5'!J3 -> Standard Error | D8: ='10x5'!K3 -> 0.075882248 | E8: ='10x5'!L3 -> 0.055332311
C9: ='10x5'!J4 -> LB | D9: ='10x5'!K4 -> 2.3809733 | E9: ='10x5'!L4 -> 1.6338469
C10: ='10x5'!J5 -> UP | D10: ='10x5'!K5 -> 2.6913665 | E10: ='10x5'!L5 -> 1.8601814
C11: ='20x5'!J1 -> 20x5 | D11: ='20x5'!K1 -> OptDist/AltDist | E11: ='20x5'!L1 -> OptStorageDist/AltDist
C12: ='20x5'!J2 -> average | D12: ='20x5'!K2 -> 2.4440008 | E12: ='20x5'!L2 -> 1.6692687
C13: ='20x5'!J3 -> Standard Error | D13: ='20x5'!K3 -> 0.038789643 | E13: ='20x5'!L3 -> 0.03130714
C14: ='20x5'!J4 -> LB | D14: ='20x5'!K4 -> 2.3646671 | E14: ='20x5'!L4 -> 1.6052384
C15: ='20x5'!J5 -> UP | D15: ='20x5'!K5 -> 2.5233346 | E15: ='20x5'!L5 -> 1.733299
C16: ='5x10'!J1 -> 5x10 | D16: ='5x10'!K1 -> OptDist/AltDist | E16: ='5x10'!L1 -> OptStorageDist/AltDist
C17: ='5x10'!J2 -> average | D17: ='5x10'!K2 -> 2.6611388 | E17: ='5x10'!L2 -> 1.7437026
C18: ='5x10'!J3 -> Standard Error | D18: ='5x10'!K3 -> 0.093770592 | E18: ='5x10'!L3 -> 0.066325346
C19: ='5x10'!J4 -> LB | D19: ='5x10'!K4 -> 2.4693564 | E19: ='5x10'!L4 -> 1.608052
C20: ='5x10'!J5 -> UP | D20: ='5x10'!K5 -> 2.8529212 | E20: ='5x10'!L5 -> 1.8793532
C21: ='10x10'!J1 -> 10x10 | D21: ='10x10'!K1 -> OptDist/AltDist | E21: ='10x10'!L1 -> OptStorageDist/AltDist
C22: ='10x10'!J2 -> average | D22: ='10x10'!K2 -> 2.6094679 | E22: ='10x10'!L2 -> 1.7165847
C23: ='10x10'!J3 -> Standard Error | D23: ='10x10'!K3 -> 0.053357667 | E23: ='10x10'!L3 -> 0.033415495
C24: ='10x10'!J4 -> LB | D24: ='10x10'!K4 -> 2.5003392 | E24: ='10x10'!L4 -> 1.6482424
C25: ='10x10'!J5 -> UP | D25: ='10x10'!K5 -> 2.7185965 | E25: ='10x10'!L5 -> 1.7849271
C26: ='20x10'!J1 -> 20x10 | D26: ='20x10'!K1 -> OptDist/AltDist | E26: ='20x10'!L1 -> OptStorageDist/AltDist
C27: ='20x10'!J2 -> average | D27: ='20x10'!K2 -> 2.7739032 | E27: ='20x10'!L2 -> 1.8158993
C28: ='20x10'!J3 -> Standard Error | D28: ='20x10'!K3 -> 0.047320611 | E28: ='20x10'!L3 -> 0.031757825
C29: ='20x10'!J4 -> LB | D29: ='20x10'!K4 -> 2.6771217 | E29: ='20x10'!L4 -> 1.7509473
C30: ='20x10'!J5 -> UP | D30: ='20x10'!K5 -> 2.8706847 | E30: ='20x10'!L5 -> 1.8808514
C31: ='5x20'!J1 -> 5x20 | D31: ='5x20'!K1 -> OptDist/AltDist | E31: ='5x20'!L1 -> OptStorageDist/AltDist
C32: ='5x20'!J2 -> average | D32: ='5x20'!K2 -> 2.6886123 | E32: ='5x20'!L2 -> 1.7556
C33: ='5x20'!J3 -> Standard Error | D33: ='5x20'!K3 -> 0.07614025 | E33: ='5x20'!L3 -> 0.05188271
C34: ='5x20'!J4 -> LB | D34: ='5x20'!K4 -> 2.532888 | E34: ='5x20'!L4 -> 1.6494879
C35: ='5x20'!J5 -> UP | D35: ='5x20'!K5 -> 2.8443366 | E35: ='5x20'!L5 -> 1.861712
C36: ='10x20'!J1 -> 10x20 | D36: ='10x20'!K1 -> OptDist/AltDist | E36: ='10x20'!L1 -> OptStorageDist/AltDist
C37: ='10x20'!J2 -> average | D37: ='10x20'!K2 -> 2.7750583 | E37: ='10x20'!L2 -> 1.8252601
C38: ='10x20'!J3 -> Standard Error | D38: ='10x20'!K3 -> 0.042421718 | E38: ='10x20'!L3 -> 0.034012741
C39: ='10x20'!J4 -> LB | D39: ='10x20'!K4 -> 2.6882962 | E39: ='10x20'!L4 -> 1.7556963
C40: ='10x20'!J5 -> UP | D40: ='10x20'!K5 -> 2.8618205 | E40: ='10x20'!L5 -> 1.894824
C41: ='20x20'!J1 -> 20x20 | D41: ='20x20'!K1 -> OptDist/AltDist | E41: ='20x20'!L1 -> OptStorageDist/AltDist
C42: ='20x20'!J2 -> average | D42: ='20x20'!K2 -> 2.661902 | E42: ='20x20'!L2 -> 1.8523455
C43: ='20x20'!J3 -> Standard Error | D43: ='20x20'!K3 -> 0.03504276 | E43: ='20x20'!L3 -> 0.02364774
C44: ='20x20'!J4 -> LB | D44: ='20x20'!K4 -> 2.5902315 | E44: ='20x20'!L4 -> 1.8039805
C45: ='20x20'!J5 -> UP | D45: ='20x20'!K5 -> 2.7335725 | E45: ='20x20'!L5 -> 1.9007106
B51: Equal Learning Rates | D51: eta=2eta | F51: eta=4eta
B52: ='10x10 with equal learning rates'!K4 -> 0.6376346 | C52: ='10x10 with equal learning rates'!L4 -> 0.42363863 | D52: ='10x10 with eta=2eta'!K4 -> 1.2168002 | E52: ='10x10 with eta=2eta'!L4 -> 0.79064178 | F52: ='10x10'!K4 -> 2.5003392
B53: ='10x10 with equal learning rates'!K5 -> 0.69335926 | C53: ='10x10 with equal learning rates'!L5 -> 0.47059684 | D53: ='10x10 with eta=2eta'!K5 -> 1.3325096 | E53: ='10x10 with eta=2eta'!L5 -> 0.87251996 | F53: ='10x10'!K5 -> 2.7185965

Sheet 5x5
A1: OptDist | B1: OptItComp | C1: OptStorageDist | D1: OptStorageItComp | E1: AltDist | F1: AltItComp | G1: OptDist/AltDist | H1: OptStorageDist/AltDist | J1: 5x5 | K1: OptDist/AltDist | L1: OptStorageDist/AltDist | O1: alpha | P1: Critical Value | Q1: =AVERAGE(F2:F31) -> 69958.267
A2: 0.002840427 | B2: 100402 | C2: 0.002271184 | D2: 137978 | E2: 0.0012665766 | F2: 69801 | G2: =A2/E2 -> 2.2426018 | H2: =C2/E2 -> 1.7931675 | J2: average | K2: =AVERAGE(G2:G31) -> 2.5043502 | L2: =AVERAGE(H2:H31) -> 1.821953 | O2: 0.975 | P2: =_xlfn.T.INV(O2, 29) -> 2.0452296
A3: 0.002842859 | B3: 100368 | C3: 0.002073275 | D3: 137827 | E3: 0.000923556 | F3: 69205 | G3: =A3/E3 -> 3.0781663 | H3: =C3/E3 -> 2.2448828 | J3: Standard Error | K3: =SQRT(VAR(G2:G31)/COUNT(G2:G31)) -> 0.074699827 | L3: =SQRT(VAR(H2:H31)/COUNT(H2:H31)) -> 0.052025515
A4: 0.003118339 | B4: 100495 | C4: 0.002276919 | D4: 137620 | E4: 0.0013505878 | F4: 69509 | G4: =A4/E4 -> 2.3088754 | H4: =C4/E4 -> 1.6858726 | J4: LB | K4: =K$2-$P$2*K$3 -> 2.3515719 | L4: =L$2-$P$2*L$3 -> 1.7155489
A5: 0.002995445 | B5: 100369 | C5: 0.002198032 | D5: 137718 | E5: 0.0015114069 | F5: 69335 | G5: =A5/E5 -> 1.9818918 | H5: =C5/E5 -> 1.4542953 | J5: UP | K5: =K$2+$P$2*K$3 -> 2.6571285 | L5: =L$2+$P$2*L$3 -> 1.9283571
A6: 0.00270904 | B6: 100373 | C6: 0.001977451 | D6: 137468 | E6: 0.0014102552 | F6: 69234 | G6: =A6/E6 -> 1.9209573 | H6: =C6/E6 -> 1.4021937
A7: 0.0030045 | B7: 100310 | C7: 0.002191266 | D7: 137540 | E7: 0.001445273 | F7: 68973 | G7: =A7/E7 -> 2.078846 | H7: =C7/E7 -> 1.5161606
A8: 0.002816469 | B8: 100267 | C8: 0.002054813 | D8: 137446 | E8: 0.0012148713 | F8: 69236 | G8: =A8/E8 -> 2.3183271 | H8: =C8/E8 -> 1.6913833
A9: 0.002837338 | B9: 100218 | C9: 0.002070298 | D9: 137554 | E9: 0.0009714971 | F9: 69312 | G9: =A9/E9 -> 2.9205831 | H9: =C9/E9 -> 2.1310388
A10: 0.002767294 | B10: 100265 | C10: 0.00202875 | D10: 137473 | E10: 0.000777676 | F10: 69192 | G10: =A10/E10 -> 3.5584151 | H10: =C10/E10 -> 2.6087342
A11: 0.003025691 | B11: 99777 | C11: 0.002192889 | D11: 137528 | E11: 0.0010163005 | F11: 69092 | G11: =A11/E11 -> 2.9771618 | H11: =C11/E11 -> 2.1577171
A12: 0.002987951 | B12: 100089 | C12: 0.002175721 | D12: 137416 | E12: 0.0013613175 | F12: 69352 | G12: =A12/E12 -> 2.1948965 | H12: =C12/E12 -> 1.5982466
A13: 0.002940598 | B13: 100158 | C13: 0.002139727 | D13: 137375 | E13: 0.0010623355 | F13: 69554 | G13: =A13/E13 -> 2.7680502 | H13: =C13/E13 -> 2.0141725
A14: 0.002883409 | B14: 102075 | C14: 0.002112364 | D14: 139920 | E14: 0.0013161832 | F14: 70746 | G14: =A14/E14 -> 2.1907353 | H14: =C14/E14 -> 1.6049164
A15: 0.002877405 | B15: 101541 | C15: 0.002088275 | D15: 139752 | E15: 0.0011835518 | F15: 70322 | G15: =A15/E15 -> 2.431161 | H15: =C15/E15 -> 1.7644137
A16: 0.002699345 | B16: 101874 | C16: 0.001972315 | D16: 140168 | E16: 0.0011660809 | F16: 70025 | G16: =A16/E16 -> 2.3148866 | H16: =C16/E16 -> 1.6914049
A17: 0.002730091 | B17: 101779 | C17: 0.001977703 | D17: 140131 | E17: 0.0010507192 | F17: 70489 | G17: =A17/E17 -> 2.598307 | H17: =C17/E17 -> 1.8822374
... A31: 0.002891332 | B31: 101819 | C31: 0.002119084 | D31: 140085 | E31: 0.0013024895 | F31: 70087 | G31: =A31/E31 -> 2.2198505 | H31: =C31/E31 -> 1.626949

Sheet 10x5
A1: OptDist | B1: OptItComp | C1: OptStorageDist | D1: OptStorageItComp | E1: AltDist | F1: AltItComp | G1: OptDist/AltDist | H1: OptStorageDist/AltDist | J1: 10x5 | K1: OptDist/AltDist | L1: OptStorageDist/AltDist | O1: alpha | P1: Critical Value
A2: 0.03577632 | B2: 27232 | C2: 0.02512399 | D2: 38755 | E2: 0.01269506 | F2: 18574 | G2: =A2/E2 -> 2.8181293 | H2: =C2/E2 -> 1.9790367 | J2: average | K2: =AVERAGE(G2:G31) -> 2.5361699 | L2: =AVERAGE(H2:H31) -> 1.7470141 | O2: 0.975 | P2: =_xlfn.T.INV(O2, 29) -> 2.0452296
A3: 0.03475616 | B3: 27447 | C3: 0.02536571 | D3: 39029 | E3: 0.01766981 | F3: 18705 | G3: =A3/E3 -> 1.9669798 | H3: =C3/E3 -> 1.4355395 | J3: Standard Error | K3: =SQRT(VAR(G2:G31)/COUNT(G2:G31)) -> 0.075882248 | L3: =SQRT(VAR(H2:H31)/COUNT(H2:H31)) -> 0.055332311
A4: 0.03795228 | B4: 27432 | C4: 0.02793961 | D4: 39031 | E4: 0.01480805 | F4: 18584 | G4: =A4/E4 -> 2.5629492 | H4: =C4/E4 -> 1.8867852 | J4: LB | K4: =K$2-$P$2*K$3 -> 2.3809733 | L4: =L$2-$P$2*L$3 -> 1.6338469
A5: 0.03721687 | B5: 27466 | C5: 0.02516107 | D5: 38964 | E5: 0.0152322 | F5: 18600 | G5: =A5/E5 -> 2.4433023 | H5: =C5/E5 -> 1.6518343 | J5: UP | K5: =K$2+$P$2*K$3 -> 2.6913665 | L5: =L$2+$P$2*L$3 -> 1.8601814
A6: 0.03677758 | B6: 27403 | C6: 0.02561116 | D6: 38974 | E6: 0.01348899 | F6: 18580 | G6: =A6/E6 -> 2.7264888 | H6: =C6/E6 -> 1.8986714
A7: 0.03719505 | B7: 27427 | C7: 0.02367364 | D7: 39095 | E7: 0.01550707 | F7: 18540 | G7: =A7/E7 -> 2.3985866 | H7: =C7/E7 -> 1.5266353
A8: 0.03482609 | B8: 27425 | C8: 0.02432358 | D8: 39029 | E8: 0.01742529 | F8: 18576 | G8: =A8/E8 -> 1.9985946 | H8: =C8/E8 -> 1.3958781
A9: 0.03485529 | B9: 27410 | C9: 0.02404177 | D9: 38935 | E9: 0.01045972 | F9: 18664 | G9: =A9/E9 -> 3.3323349 | H9: =C9/E9 -> 2.2985099
A10: 0.03903535 | B10: 27444 | C10: 0.02508405 | D10: 39009 | E10: 0.01819841 | F10: 18638 | G10: =A10/E10 -> 2.1449868 | H10: =C10/E10 -> 1.3783649
A11: 0.03488253 | B11: 27424 | C11: 0.02393477 | D11: 38986 | E11: 0.01269464 | F11: 18602 | G11: =A11/E11 -> 2.7478156 | H11: =C11/E11 -> 1.8854233
A12: 0.03300625 | B12: 27395 | C12: 0.02643518 | D12: 38979 | E12: 0.01284636 | F12: 18669 | G12: =A12/E12 -> 2.5693076 | H12: =C12/E12 -> 2.0577954
A13: 0.03445716 | B13: 27439 | C13: 0.02190176 | D13: 39019 | E13: 0.01521306 | F13: 18669 | G13: =A13/E13 -> 2.2649723 | H13: =C13/E13 -> 1.4396683 | L13: Updated
A14: 0.0350359 | B14: 27438 | C14: 0.02480808 | D14: 39049 | E14: 0.01226728 | F14: 18661 | G14: =A14/E14 -> 2.8560447 | H14: =C14/E14 -> 2.0222967
A15: 0.03587137 | B15: 27594 | C15: 0.02485963 | D15: 39184 | E15: 0.01211876 | F15: 18803 | G15: =A15/E15 -> 2.9599868 | H15: =C15/E15 -> 2.0513345
A16: 0.03658998 | B16: 27632 | C16: 0.02453836 | D16: 39290 | E16: 0.01169571 | F16: 18785 | G16: =A16/E16 -> 3.1284958 | H16: =C16/E16 -> 2.098065
A17: 0.03523193 | B17: 27578 | C17: 0.02443045 | D17: 39309 | E17: 0.01400675 | F17: 18720 | G17: =A17/E17 -> 2.5153537 | H17: =C17/E17 -> 1.7441912
A18: 0.03807846 | B18: 27596 | C18: 0.02655784 | D18: 39255 | E18: 0.01749987 | F18: 18706 | G18: =A18/E18 -> 2.1759282 | H18: =C18/E18 -> 1.5176021
A19: 0.03626248 | B19: 27578 | C19: 0.02357297 | D19: 39224 | E19: 0.01122316 | F19: 18744 | G19: =A19/E19 -> 3.2310401 | H19: =C19/E19 -> 2.1003862
A20: 0.03532032 | B20: 27608 | C20: 0.0243275 | D20: 39279 | E20: 0.01423242 | F20: 18786 | G20: =A20/E20 -> 2.4816806 | H20: =C20/E20 -> 1.7093017
A21: 0.03707105 | B21: 27628 | C21: 0.02306835 | D21: 39278 | E21: 0.01771383 | F21: 18778 | G21: =A21/E21 -> 2.0927744 | H21: =C21/E21 -> 1.3022791
A22: 0.03485197 | B22: 27616 | C22: 0.02535559 | D22: 39225 | E22: 0.01620595 | F22: 18563 | G22: =A22/E22 -> 2.1505663 | H22: =C22/E22 -> 1.5645852
A23: 0.03985908 | B23: 27599 | C23: 0.02819583 | D23: 39323 | E23: 0.01105088 | F23: 18862 | G23: =A23/E23 -> 3.6068693 | H23: =C23/E23 -> 2.5514556
A24: 0.0348334 | B24: 27575 | C24: 0.02383 | D24: 39259 | E24: 0.0145116 | F24: 18743 | G24: =A24/E24 -> 2.4003831 | H24: =C24/E24 -> 1.6421346
A25: 0.03611227 | B25: 27578 | C25: 0.02455243 | D25: 39195 | E25: 0.01693579 | F25: 18767 | G25: =A25/E25 -> 2.132305 | H25: =C25/E25 -> 1.4497363
... A31: 0.03379935 | B31: 27609 | C31: 0.02375925 | D31: 39270 | E31: 0.01749192 | F31: 18740 | G31: =A31/E31 -> 1.9322836 | H31: =C31/E31 -> 1.3582986

Sheet 20x5
A1: OptDist | B1: OptItComp | C1: OptStorageDist | D1: OptStorageItComp | E1: AltDist | F1: AltItComp | G1: OptDist/AltDist | H1: OptStorageDist/AltDist | J1: 20x5 | K1: OptDist/AltDist | L1: OptStorageDist/AltDist | O1: alpha | P1: Critical Value
A2: 0.4058723 | B2: 6944 | C2: 0.2838255 | D2: 10077 | E2: 0.155164 | F2: 4702 | G2: =A2/E2 -> 2.6157633 | H2: =C2/E2 -> 1.8291968 | J2: average | K2: =AVERAGE(G2:G31) -> 2.4440008 | L2: =AVERAGE(H2:H31) -> 1.6692687 | O2: 0.975 | P2: =_xlfn.T.INV(O2, 29) -> 2.0452296
A3: 0.468027 | B3: 6946 | C3: 0.2868448 | D3: 10080 | E3: 0.1906349 | F3: 4713 | G3: =A3/E3 -> 2.4550961 | H3: =C3/E3 -> 1.5046815 | J3: Standard Error | K3: =SQRT(VAR(G2:G31)/COUNT(G2:G31)) -> 0.038789643 | L3: =SQRT(VAR(H2:H31)/COUNT(H2:H31)) -> 0.03130714
A4: 0.4515361 | B4: 6954 | C4: 0.2905211 | D4: 10081 | E4: 0.1901911 | F4: 4702 | G4: =A4/E4 -> 2.3741179 | H4: =C4/E4 -> 1.5275221 | J4: LB | K4: =K$2-$P$2*K$3 -> 2.3646671 | L4: =L$2-$P$2*L$3 -> 1.6052384
A5: 0.3732949 | B5: 6963 | C5: 0.2724906 | D5: 10077 | E5: 0.1450022 | F5: 4680 | G5: =A5/E5 -> 2.5744085 | H5: =C5/E5 -> 1.879217 | J5: UP | K5: =K$2+$P$2*K$3 -> 2.5233346 | L5: =L$2+$P$2*L$3 -> 1.733299
A6: 0.4289857 | B6: 6955 | C6: 0.2595225 | D6: 10041 | E6: 0.1750961 | F6: 4695 | G6: =A6/E6 -> 2.4500015 | H6: =C6/E6 -> 1.4821718
A7: 0.4635947 | B7: 6944 | C7: 0.330098 | D7: 10073 | E7: 0.1743941 | F7: 4689 | G7: =A7/E7 -> 2.6583164 | H7: =C7/E7 -> 1.8928278
A8: 0.4059978 | B8: 6951 | C8: 0.3175839 | D8: 10026 | E8: 0.159359 | F8: 4701 | G8: =A8/E8 -> 2.5476929 | H8: =C8/E8 -> 1.9928834
A9: 0.4005161 | B9: 6949 | C9: 0.28864 | D9: 10066 | E9: 0.1745809 | F9: 4693 | G9: =A9/E9 -> 2.2941576 | H9: =C9/E9 -> 1.6533309
A10: 0.3971318 | B10: 6950 | C10: 0.311439 | D10: 10070 | E10: 0.1860867 | F10: 4732 | G10: =A10/E10 -> 2.1341224 | H10: =C10/E10 -> 1.6736231
A11: 0.417496 | B11: 6942 | C11: 0.3017661 | D11: 10007 | E11: 0.1757212 | F11: 4687 | G11: =A11/E11 -> 2.3759 | H11: =C11/E11 -> 1.7173005 | L11: Updated
A12: 0.3413664 | B12: 6950 | C12: 0.2769425 | D12: 10052 | E12: 0.1670596 | F12: 4713 | G12: =A12/E12 -> 2.0433809 | H12: =C12/E12 -> 1.6577467
A13: 0.3860834 | B13: 6934 | C13: 0.3091548 | D13: 10022 | E13: 0.1827614 | F13: 4688 | G13: =A13/E13 -> 2.1124997 | H13: =C13/E13 -> 1.691576
A14: 0.3596065 | B14: 7052 | C14: 0.2645853 | D14: 10223 | E14: 0.1619447 | F14: 4756 | G14: =A14/E14 -> 2.2205512 | H14: =C14/E14 -> 1.6338003
A15: 0.4279509 | B15: 7059 | C15: 0.2878875 | D15: 10236 | E15: 0.1864755 | F15: 4768 | G15: =A15/E15 -> 2.2949444 | H15: =C15/E15 -> 1.5438355
A16: 0.4046609 | B16: 7057 | C16: 0.2743066 | D16: 10234 | E16: 0.1673068 | F16: 4754 | G16: =A16/E16 -> 2.4186758 | H16: =C16/E16 -> 1.6395424
A17: 0.4203364 | B17: 7059 | C17: 0.2276687 | D17: 10220 | E17: 0.1672151 | F17: 4785 | G17: =A17/E17 -> 2.5137467 | H17: =C17/E17 -> 1.3615319
A18: 0.4201625 | B18: 7057 | C18: 0.3113938 | D18: 10224 | E18: 0.152467 | F18: 4762 | G18: =A18/E18 -> 2.7557603 | H18: =C18/E18 -> 2.0423685
A19: 0.4659931 | B19: 7061 | C19: 0.2872402 | D19: 10231 | E19: 0.1793996 | F19: 4768 | G19: =A19/E19 -> 2.5975147 | H19: =C19/E19 -> 1.6011195
A20: 0.4161204 | B20: 7056 | C20: 0.2673381 | D20: 10208 | E20: 0.1712635 | F20: 4773 | G20: =A20/E20 -> 2.4297086 | H20: =C20/E20 -> 1.5609753
A21: 0.3991242 | B21: 7055 | C21: 0.3044983 | D21: 10241 | E21: 0.1815057 | F21: 4777 | G21: =A21/E21 -> 2.1989623 | H21: =C21/E21 -> 1.6776239
A22: 0.4319786 | B22: 7056 | C22: 0.286005 | D22: 10236 | E22: 0.1875418 | F22: 4757 | G22: =A22/E22 -> 2.3033724 | H22: =C22/E22 -> 1.52502
A23: 0.4131807 | B23: 7043 | C23: 0.3003136 | D23: 10219 | E23: 0.1601837 | F23: 4780 | G23: =A23/E23 -> 2.5794179 | H23: =C23/E23 -> 1.8748075
... A31: 0.3949029 | B31: 7062 | C31: 0.2522546 | D31: 10244 | E31: 0.1900243 | F31: 4796 | G31: =A31/E31 -> 2.0781705 | H31: =C31/E31 -> 1.327486

Sheet 5x10
A1: OptDist | B1: OptItComp | C1: OptStorageDist | D1: OptStorageItComp | E1: AltDist | F1: AltItComp | G1: OptDist/AltDist | H1: OptStorageDist/AltDist | J1: 5x10 | K1: OptDist/AltDist | L1: OptStorageDist/AltDist | O1: alpha | P1: Critical Value
A2: 0.02691268 | B2: 30388 | C2: 0.01837638 | D2: 46215 | E2: 0.00901643 | F2: 22143 | G2: =A2/E2 -> 2.9848488 | H2: =C2/E2 -> 2.0380993 | J2: average | K2: =AVERAGE(G2:G31) -> 2.6611388 | L2: =AVERAGE(H2:H31) -> 1.7437026 | O2: 0.975 | P2: =_xlfn.T.INV(O2, 29) -> 2.0452296
A3: 0.02802718 | B3: 31001 | C3: 0.01939703 | D3: 46160 | E3: 0.011961216 | F3: 22194 | G3: =A3/E3 -> 2.3431715 | H3: =C3/E3 -> 1.6216604 | J3: Standard Error | K3: =SQRT(VAR(G2:G31)/COUNT(G2:G31)) -> 0.093770592 | L3: =SQRT(VAR(H2:H31)/COUNT(H2:H31)) -> 0.066325346
A4: 0.03465198 | B4: 31026 | C4: 0.01720883 | D4: 46100 | E4: 0.009618866 | F4: 22099 | G4: =A4/E4 -> 3.6025016 | H4: =C4/E4 -> 1.7890706 | J4: LB | K4: =K$2-$P$2*K$3 -> 2.4693564 | L4: =L$2-$P$2*L$3 -> 1.608052
A5: 0.02875538 | B5: 30942 | C5: 0.01848706 | D5: 46115 | E5: 0.013431543 | F5: 22122 | G5: =A5/E5 -> 2.1408843 | H5: =C5/E5 -> 1.3763914 | J5: UP | K5: =K$2+$P$2*K$3 -> 2.8529212 | L5: =L$2+$P$2*L$3 -> 1.8793532
A6: 0.02899567 | B6: 30756 | C6: 0.01788147 | D6: 46179 | E6: 0.00852137 | F6: 20662 | G6: =A6/E6 -> 3.4027005 | H6: =C6/E6 -> 2.0984267
A7: 0.02778282 | B7: 29600 | C7: 0.01759352 | D7: 44410 | E7: 0.011533144 | F7: 21184 | G7: =A7/E7 -> 2.4089546 | H7: =C7/E7 -> 1.5254748
A8: 0.02826031 | B8: 29711 | C8: 0.01916909 | D8: 44618 | E8: 0.012069678 | F8: 21344 | G8: =A8/E8 -> 2.3414303 | H8: =C8/E8 -> 1.5882023
A9: 0.02724465 | B9: 30162 | C9: 0.01953228 | D9: 44795 | E9: 0.010978201 | F9: 21390 | G9: =A9/E9 -> 2.4817044 | H9: =C9/E9 -> 1.7791877
A10: 0.02983059 | B10: 29998 | C10: 0.01850641 | D10: 44730 | E10: 0.010707794 | F10: 21493 | G10: =A10/E10 -> 2.7858763 | H10: =C10/E10 -> 1.7283121
A11: 0.02819621 | B11: 30135 | C11: 0.01885591 | D11: 44744 | E11: 0.012811894 | F11: 21236 | G11: =A11/E11 -> 2.2007839 | H11: =C11/E11 -> 1.4717504
A12: 0.02842311 | B12: 30055 | C12: 0.01860354 | D12: 44965 | E12: 0.012376836 | F12: 21458 | G12: =A12/E12 -> 2.2964763 | H12: =C12/E12 -> 1.5030934 | J12: Updated
A13: 0.03089182 | B13: 30082 | C13: 0.02032247 | D13: 44500 | E13: 0.012239712 | F13: 21450 | G13: =A13/E13 -> 2.5239009 | H13: =C13/E13 -> 1.6603716
A14: 0.02782597 | B14: 30012 | C14: 0.02049408 | D14: 44826 | E14: 0.008305017 | F14: 21509 | G14: =A14/E14 -> 3.3505013 | H14: =C14/E14 -> 2.4676747
A15: 0.03301118 | B15: 29923 | C15: 0.01675772 | D15: 44666 | E15: 0.012341791 | F15: 21597 | G15: =A15/E15 -> 2.6747479 | H15: =C15/E15 -> 1.3578029
A16: 0.02793148 | B16: 29901 | C16: 0.01885879 | D16: 44804 | E16: 0.016153214 | F16: 21386 | G16: =A16/E16 -> 1.7291593 | H16: =C16/E16 -> 1.1674946
A17: 0.03031586 | B17: 29997 | C17: 0.01991479 | D17: 44333 | E17: 0.012651083 | F17: 21316 | G17: =A17/E17 -> 2.3963055 | H17: =C17/E17 -> 1.5741569
A18: 0.02781423 | B18: 29594 | C18: 0.01903224 | D18: 44659 | E18: 0.011306638 | F18: 21496 | G18: =A18/E18 -> 2.4599912 | H18: =C18/E18 -> 1.6832802
A19: 0.02979992 | B19: 29843 | C19: 0.01829662 | D19: 44817 | E19: 0.010621289 | F19: 21246 | G19: =A19/E19 -> 2.8056783 | H19: =C19/E19 -> 1.7226365
A20: 0.02982678 | B20: 30011 | C20: 0.02088497 | D20: 45062 | E20: 0.01256045 | F20: 21369 | G20: =A20/E20 -> 2.3746586 | H20: =C20/E20 -> 1.6627565
A21: 0.03030882 | B21: 30080 | C21: 0.01956798 | D21: 44977 | E21: 0.014401824 | F21: 21407 | G21: =A21/E21 -> 2.1045126 | H21: =C21/E21 -> 1.3587154
A22: 0.03098757 | B22: 29949 | C22: 0.01936948 | D22: 44540 | E22: 0.012576769 | F22: 21339 | G22: =A22/E22 -> 2.4638737 | H22: =C22/E22 -> 1.5400998
A23: 0.02725047 | B23: 30020 | C23: 0.0195551 | D23: 44690 | E23: 0.010830391 | F23: 21381 | G23: =A23/E23 -> 2.5161114 | H23: =C23/E23 -> 1.8055765
A24: 0.02857451 | B24: 30114 | C24: 0.01989939 | D24: 44827 | E24: 0.007847414 | F24: 21489 | G24: =A24/E24 -> 3.6412645 | H24: =C24/E24 -> 2.5357895
... A31: 0.02646011 | B31: 31046 | C31: 0.01890668 | D31: 46182 | E31: 0.007636281 | F31: 22259 | G31: =A31/E31 -> 3.4650519 | H31: =C31/E31 -> 2.4759016

Sheet 10x10
A1: OptDist | B1: OptItComp | C1: OptStorageDist | D1: OptStorageItComp | E1: AltDist | F1: AltItComp | G1: OptDist/AltDist | H1: OptStorageDist/AltDist | J1: 10x10 | K1: OptDist/AltDist | L1: OptStorageDist/AltDist | O1: alpha | P1: Critical Value
A2: 0.3454641 | B2: 7815 | C2: 0.2223659 | D2: 11832 | E2: 0.130987 | F2: 5591 | G2: =A2/E2 -> 2.6373923 | H2: =C2/E2 -> 1.6976181 | J2: average | K2: =AVERAGE(G2:G31) -> 2.6094679 | L2: =AVERAGE(H2:H31) -> 1.7165847 | O2: 0.975 | P2: =_xlfn.T.INV(O2, 29) -> 2.0452296
A3: 0.353806 | B3: 7840 | C3: 0.2337145 | D3: 11889 | E3: 0.1211959 | F3: 5577 | G3: =A3/E3 -> 2.9192902 | H3: =C3/E3 -> 1.9284027 | J3: Standard Error | K3: =SQRT(VAR(G2:G31)/COUNT(G2:G31)) -> 0.053357667 | L3: =SQRT(VAR(H2:H31)/COUNT(H2:H31)) -> 0.033415495
A4: 0.3481862 | B4: 7853 | C4: 0.2348824 | D4: 11892 | E4: 0.1413149 | F4: 5590 | G4: =A4/E4 -> 2.463903 | H4: =C4/E4 -> 1.6621206 | J4: LB | K4: =K$2-$P$2*K$3 -> 2.5003392 | L4: =L$2-$P$2*L$3 -> 1.6482424
A5: 0.3213191 | B5: 7848 | C5: 0.2086905 | D5: 11868 | E5: 0.1538604 | F5: 5593 | G5: =A5/E5 -> 2.0883808 | H5: =C5/E5 -> 1.3563627 | J5: UP | K5: =K$2+$P$2*K$3 -> 2.7185965 | L5: =L$2+$P$2*L$3 -> 1.7849271
A6: 0.3319005 | B6: 7857 | C6: 0.2222923 | D6: 11383 | E6: 0.1175194 | F6: 5442 | G6: =A6/E6 -> 2.8242188 | H6: =C6/E6 -> 1.8915371
A7: 0.3518541 | B7: 7826 | C7: 0.2318718 | D7: 11843 | E7: 0.1460178 | F7: 5573 | G7: =A7/E7 -> 2.4096658 | H7: =C7/E7 -> 1.5879694
A8: 0.3876532 | B8: 7840 | C8: 0.2252022 | D8: 11887 | E8: 0.1405334 | F8: 5602 | G8: =A8/E8 -> 2.7584418 | H8: =C8/E8 -> 1.6024817
A9: 0.3198695 | B9: 7861 | C9: 0.240492 | D9: 11874 | E9: 0.1151361 | F9: 5600 | G9: =A9/E9 -> 2.778186 | H9: =C9/E9 -> 2.0887628
A10: 0.3030781 | B10: 7827 | C10: 0.2071545 | D10: 11927 | E10: 0.1155089 | F10: 5586 | G10: =A10/E10 -> 2.6238506 | H10: =C10/E10 -> 1.7934073
A11: 0.3388569 | B11: 7836 | C11: 0.2228511 | D11: 11842 | E11: 0.1492865 | F11: 5595 | G11: =A11/E11 -> 2.2698429 | H11: =C11/E11 -> 1.4927746 | J11: Updated
A12: 0.373967 | B12: 7847 | C12: 0.2165111 | D12: 11866 | E12: 0.1246217 | F12: 5604 | G12: =A12/E12 -> 3.0008177 | H12: =C12/E12 -> 1.7373467
A13: 0.3752982 | B13: 7841 | C13: 0.235788 | D13: 11851 | E13: 0.1209566 | F13: 5594 | G13: =A13/E13 -> 3.1027509 | H13: =C13/E13 -> 1.9493603
A14: 0.3414072 | B14: 7834 | C14: 0.2344686 | D14: 11794 | E14: 0.1299837 | F14: 5576 | G14: =A14/E14 -> 2.6265386 | H14: =C14/E14 -> 1.8038308
A15: 0.3922804 | B15: 7838 | C15: 0.2162425 | D15: 11858 | E15: 0.129945 | F15: 5588 | G15: =A15/E15 -> 3.0188187 | H15: =C15/E15 -> 1.6641079
A16: 0.3914822 | B16: 7836 | C16: 0.2126489 | D16: 11859 | E16: 0.1406102 | F16: 5587 | G16: =A16/E16 -> 2.7841664 | H16: =C16/E16 -> 1.5123291
A17: 0.344531 | B17: 7836 | C17: 0.2422896 | D17: 11861 | E17: 0.1271508 | F17: 5590 | G17: =A17/E17 -> 2.7096251 | H17: =C17/E17 -> 1.9055295
A18: 0.3361033 | B18: 7741 | C18: 0.229513 | D18: 11831 | E18: 0.1536351 | F18: 5559 | G18: =A18/E18 -> 2.1876726 | H18: =C18/E18 -> 1.4938839
A19: 0.3264084 | B19: 7824 | C19: 0.2418758 | D19: 11848 | E19: 0.1364526 | F19: 5482 | G19: =A19/E19 -> 2.392101 | H19: =C19/E19 -> 1.7725994
A20: 0.3432077 | B20: 7829 | C20: 0.2312685 | D20: 11860 | E20: 0.1325279 | F20: 5525 | G20: =A20/E20 -> 2.5897015 | H20: =C20/E20 -> 1.7450552
A21: 0.3707394 | B21: 7807 | C21: 0.2329457 | D21: 11810 | E21: 0.1228558 | F21: 5569 | G21: =A21/E21 -> 3.0176793 | H21: =C21/E21 -> 1.8960904
A22: 0.3516347 | B22: 7946 | C22: 0.2185852 | D22: 12091 | E22: 0.1452312 | F22: 5668 | G22: =A22/E22 -> 2.4212063 | H22: =C22/E22 -> 1.5050843
A23: 0.3574357 | B23: 7951 | C23: 0.2153642 | D23: 12024 | E23: 0.1240768 | F23: 5671 | G23: =A23/E23 -> 2.8807618 | H23: =C23/E23 -> 1.735733
... A31: 0.3045581 | B31: 7827 | C31: 0.2807936 | D31: 11803 | E31: 0.1362564 | F31: 5531 | G31: =A31/E31 -> 2.2351838 | H31: =C31/E31 -> 2.0607737

Sheet 20x10
A1: OptDist | B1: OptItComp | C1: OptStorageDist | D1: OptStorageItComp | E1: AltDist | F1: AltItComp | G1: OptDist/AltDist | H1: OptStorageDist/AltDist | J1: 20x10 | K1: OptDist/AltDist | L1: OptStorageDist/AltDist | O1: alpha | P1: Critical Value
A2: 4.637803 | B2: 1772 | C2: 3.358496 | D2: 2429 | E2: 1.777316 | F2: 1290 | G2: =A2/E2 -> 2.609442 | H2: =C2/E2 -> 1.8896448 | J2: average | K2: =AVERAGE(G2:G31) -> 2.7739032 | L2: =AVERAGE(H2:H31) -> 1.8158993 | O2: 0.975 | P2: =_xlfn.T.INV(O2, 29) -> 2.0452296
A3: 4.811675 | B3: 1858 | C3: 3.285871 | D3: 2845 | E3: 1.455248 | F3: 1357 | G3: =A3/E3 -> 3.3064296 | H3: =C3/E3 -> 2.2579457 | J3: Standard Error | K3: =SQRT(VAR(G2:G31)/COUNT(G2:G31)) -> 0.047320611 | L3: =SQRT(VAR(H2:H31)/COUNT(H2:H31)) -> 0.031757825
A4: 4.955818 | B4: 1929 | C4: 2.905517 | D4: 2852 | E4: 1.712086 | F4: 1316 | G4: =A4/E4 -> 2.8946081 | H4: =C4/E4 -> 1.6970625 | J4: LB | K4: =K$2-$P$2*K$3 -> 2.6771217 | L4: =L$2-$P$2*L$3 -> 1.7509473
A5: 4.460935 | B5: 1938 | C5: 3.079061 | D5: 2861 | E5: 1.830453 | F5: 1351 | G5: =A5/E5 -> 2.4370661 | H5: =C5/E5 -> 1.6821306 | J5: UP | K5: =K$2+$P$2*K$3 -> 2.8706847 | L5: =L$2+$P$2*L$3 -> 1.8808514
A6: 4.297656 | B6: 1815 | C6: 3.260976 | D6: 2738 | E6: 1.686353 | F6: 1282 | G6: =A6/E6 -> 2.5484913 | H6: =C6/E6 -> 1.9337446
A7: 4.74377 | B7: 1730 | C7: 2.659258 | D7: 2820 | E7: 1.54834 | F7: 1276 | G7: =A7/E7 -> 3.063778 | H7: =C7/E7 -> 1.7174897
A8: 4.574501 | B8: 1761 | C8: 2.85758 | D8: 2850 | E8: 1.477944 | F8: 1357 | G8: =A8/E8 -> 3.0951788 | H8: =C8/E8 -> 1.9334833
A9: 4.53276 | B9: 1859 | C9: 2.569579 | D9: 2931 | E9: 1.579457 | F9: 1348 | G9: =A9/E9 -> 2.8698217 | H9: =C9/E9 -> 1.6268749
A10: 4.44075 | B10: 1830 | C10: 2.833023 | D10: 2932 | E10: 1.607705 | F10: 1336 | G10: =A10/E10 -> 2.7621672 | H10: =C10/E10 -> 1.7621535
A11: 4.268739 | B11: 1922 | C11: 2.869876 | D11: 2946 | E11: 1.62647 | F11: 1307 | G11: =A11/E11 -> 2.6245421 | H11: =C11/E11 -> 1.7644814 | J11: Updated
A12: 4.525926 | B12: 1848 | C12: 2.749269 | D12: 2928 | E12: 1.749181 | F12: 1362 | G12: =A12/E12 -> 2.5874544 | H12: =C12/E12 -> 1.5717464
A13: 3.76825 | B13: 1938 | C13: 2.804088 | D13: 2948 | E13: 1.50746 | F13: 1363 | G13: =A13/E13 -> 2.4997347 | H13: =C13/E13 -> 1.8601409
A14: 4.140693 | B14: 1931 | C14: 2.709514 | D14: 2824 | E14: 1.783189 | F14: 1351 | G14: =A14/E14 -> 2.3220719 | H14: =C14/E14 -> 1.5194766
A15: 4.12449 | B15: 1903 | C15: 2.753845 | D15: 2863 | E15: 1.560125 | F15: 1352 | G15: =A15/E15 -> 2.643692 | H15: =C15/E15 -> 1.7651438
A16: 4.769824 | B16: 1868 | C16: 3.046832 | D16: 2890 | E16: 1.661794 | F16: 1306 | G16: =A16/E16 -> 2.870286 | H16: =C16/E16 -> 1.8334595
A17: 4.450552 | B17: 1903 | C17: 2.68619 | D17: 2942 | E17: 1.460102 | F17: 1345 | G17: =A17/E17 -> 3.0481103 | H17: =C17/E17 -> 1.8397276
A18: 4.446459 | B18: 1940 | C18: 3.156155 | D18: 2949 | E18: 1.589025 | F18: 1360 | G18: =A18/E18 -> 2.798231 | H18: =C18/E18 -> 1.9862211
A19: 4.422886 | B19: 1936 | C19: 2.811461 | D19: 2951 | E19: 1.621346 | F19: 1367 | G19: =A19/E19 -> 2.72791 | H19: =C19/E19 -> 1.734029
A20: 4.363827 | B20: 1942 | C20: 2.797802 | D20: 2945 | E20: 1.395082 | F20: 1361 | G20: =A20/E20 -> 3.1280075 | H20: =C20/E20 -> 2.0054749
A21: 4.306132 | B21: 1938 | C21: 2.868882 | D21: 2934 | E21: 1.546284 | F21: 1356 | G21: =A21/E21 -> 2.7848261 | H21: =C21/E21 -> 1.8553396
A22: 4.609796 | B22: 1914 | C22: 2.832804 | D22: 2886 | E22: 1.44176 | F22: 1339 | G22: =A22/E22 -> 3.1973394 | H22: =C22/E22 -> 1.9648235
A23: 4.617655 | B23: 1891 | C23: 3.068573 | D23: 2771 | E23: 1.641106 | F23: 1327 | G23: =A23/E23 -> 2.8137457 | H23: =C23/E23 -> 1.8698201
... A31: 4.432419 | B31: 1752 | C31: 2.788837 | D31: 2869 | E31: 1.59284 | F31: 1350 | G31: =A31/E31 -> 2.7827145 | H31: =C31/E31 -> 1.7508582

Sheet 5x20
A1: OptDist | B1: OptItComp | C1: OptStorageDist | D1: OptStorageItComp | E1: AltDist | F1: AltItComp | G1: OptDist/AltDist | H1: OptStorageDist/AltDist | J1: 5x20 | K1: OptDist/AltDist | L1: OptStorageDist/AltDist | O1: alpha | P1: Critical Value
A2: 0.2955678 | B2: 8062 | C2: 0.184729 | D2: 12694 | E2: 0.12392007 | F2: 5992 | G2: =A2/E2 -> 2.3851487 | H2: =C2/E2 -> 1.4907109 | J2: average | K2: =AVERAGE(G2:G31) -> 2.6886123 | L2: =AVERAGE(H2:H31) -> 1.7556 | O2: 0.975 | P2: =_xlfn.T.INV(O2, 29) -> 2.0452296
A3: 0.310858 | B3: 8065 | C3: 0.2009864 | D3: 12704 | E3: 0.12525058 | F3: 6015 | G3: =A3/E3 -> 2.4818887 | H3: =C3/E3 -> 1.6046744 | J3: Standard Error | K3: =SQRT(VAR(G2:G31)/COUNT(G2:G31)) -> 0.07614025 | L3: =SQRT(VAR(H2:H31)/COUNT(H2:H31)) -> 0.05188271
A4: 0.2864123 | B4: 8215 | C4: 0.1952688 | D4: 12877 | E4: 0.13238927 | F4: 6045 | G4: =A4/E4 -> 2.1634102 | H4: =C4/E4 -> 1.4749594 | J4: LB | K4: =K$2-$P$2*K$3 -> 2.532888 | L4: =L$2-$P$2*L$3 -> 1.6494879
A5: 0.3314915 | B5: 8230 | C5: 0.2178589 | D5: 12897 | E5: 0.09955172 | F5: 5967 | G5: =A5/E5 -> 3.329842 | H5: =C5/E5 -> 2.1883992 | J5: UP | K5: =K$2+$P$2*K$3 -> 2.8443366 | L5: =L$2+$P$2*L$3 -> 1.861712
A6: 0.2961552 | B6: 8267 | C6: 0.1983756 | D6: 12839 | E6: 0.13353196 | F6: 6027 | G6: =A6/E6 -> 2.2178601 | H6: =C6/E6 -> 1.4856039
A7: 0.2998189 | B7: 8177 | C7: 0.2000468 | D7: 12941 | E7: 0.08552046 | F7: 6061 | G7: =A7/E7 -> 3.5058149 | H7: =C7/E7 -> 2.3391689
A8: 0.2543325 | B8: 8246 | C8: 0.1637992 | D8: 12867 | E8: 0.11587845 | F8: 6065 | G8: =A8/E8 -> 2.1948214 | H8: =C8/E8 -> 1.4135432
A9: 0.2984933 | B9: 8158 | C9: 0.1878037 | D9: 12761 | E9: 0.11472612 | F9: 5971 | G9: =A9/E9 -> 2.6017902 | H9: =C9/E9 -> 1.6369742
A10: 0.3134398 | B10: 8290 | C10: 0.1903483 | D10: 12931 | E10: 0.11374212 | F10: 5949 | G10: =A10/E10 -> 2.7557056 | H10: =C10/E10 -> 1.6735076 | K10: Updated
A11: 0.3104276 | B11: 8277 | C11: 0.1972373 | D11: 12713 | E11: 0.10660434 | F11: 5897 | G11: =A11/E11 -> 2.9119602 | H11: =C11/E11 -> 1.8501808
A12: 0.2836732 | B12: 8243 | C12: 0.1984542 | D12: 12892 | E12: 0.13115091 | F12: 6085 | G12: =A12/E12 -> 2.1629526 | H12: =C12/E12 -> 1.5131744
A13: 0.2969159 | B13: 8308 | C13: 0.1709996 | D13: 13008 | E13: 0.10446433 | F13: 6078 | G13: =A13/E13 -> 2.8422707 | H13: =C13/E13 -> 1.6369186
A14: 0.3078281 | B14: 8313 | C14: 0.1974584 | D14: 12725 | E14: 0.09817869 | F14: 6003 | G14: =A14/E14 -> 3.1353861 | H14: =C14/E14 -> 2.0112144
A15: 0.2696801 | B15: 8297 | C15: 0.1840089 | D15: 12959 | E15: 0.11697882 | F15: 6041 | G15: =A15/E15 -> 2.3053755 | H15: =C15/E15 -> 1.5730104
A16: 0.3112208 | B16: 8265 | C16: 0.1776467 | D16: 12798 | E16: 0.10063354 | F16: 6078 | G16: =A16/E16 -> 3.092615 | H16: =C16/E16 -> 1.7652832
A17: 0.2959122 | B17: 8277 | C17: 0.1956476 | D17: 12959 | E17: 0.08465692 | F17: 6069 | G17: =A17/E17 -> 3.4954284 | H17: =C17/E17 -> 2.3110645
A18: 0.2836894 | B18: 8170 | C18: 0.206835 | D18: 12747 | E18: 0.08837307 | F18: 5940 | G18: =A18/E18 -> 3.210134 | H18: =C18/E18 -> 2.3404754
A19: 0.2907562 | B19: 8107 | C19: 0.1817529 | D19: 12565 | E19: 0.10462973 | F19: 5837 | G19: =A19/E19 -> 2.7789061 | H19: =C19/E19 -> 1.7371057
A20: 0.3086844 | B20: 8284 | C20: 0.1932664 | D20: 12876 | E20: 0.11073149 | F20: 6080 | G20: =A20/E20 -> 2.787684 | H20: =C20/E20 -> 1.7453608
A21: 0.3014073 | B21: 8273 | C21: 0.1938779 | D21: 12906 | E21: 0.09982522 | F21: 6049 | G21: =A21/E21 -> 3.0193502 | H21: =C21/E21 -> 1.9421735
A22: 0.312635 | B22: 8281 | C22: 0.2084534 | D22: 12898 | E22: 0.09901017 | F22: 6049 | G22: =A22/E22 -> 3.1576049 | H22: =C22/E22 -> 2.1053736
... A31: 0.3110936 | B31: 8274 | C31: 0.2084084 | D31: 12914 | E31: 0.11141741 | F31: 5984 | G31: =A31/E31 -> 2.7921453 | H31: =C31/E31 -> 1.8705192

Sheet 10x20
A1: OptDist | B1: OptItComp | C1: OptStorageDist | D1: OptStorageItComp | E1: AltDist | F1: AltItComp | G1: OptDist/AltDist | H1: OptStorageDist/AltDist | J1: 10x20 | K1: OptDist/AltDist | L1: OptStorageDist/AltDist | O1: alpha | P1: Critical Value
A2: 4.359477 | B2: 1794 | C2: 2.870827 | D2: 2593 | E2: 1.646219 | F2: 1223 | G2: =A2/E2 -> 2.6481756 | H2: =C2/E2 -> 1.7438913 | J2: average | K2: =AVERAGE(G2:G31) -> 2.7750583 | L2: =AVERAGE(H2:H31) -> 1.8252601 | O2: 0.975 | P2: =_xlfn.T.INV(O2, 29) -> 2.0452296
A3: 3.945961 | B3: 1950 | C3: 2.49757 | D3: 3104 | E3: 1.220091 | F3: 1435 | G3: =A3/E3 -> 3.234153 | H3: =C3/E3 -> 2.0470358 | J3: Standard Error | K3: =SQRT(VAR(G2:G31)/COUNT(G2:G31)) -> 0.042421718 | L3: =SQRT(VAR(H2:H31)/COUNT(H2:H31)) -> 0.034012741
A4: 4.124138 | B4: 1925 | C4: 2.769397 | D4: 2829 | E4: 1.281389 | F4: 1375 | G4: =A4/E4 -> 3.2184902 | H4: =C4/E4 -> 2.1612461 | J4: LB | K4: =K$2-$P$2*K$3 -> 2.6882962 | L4: =L$2-$P$2*L$3 -> 1.7556963
A5: 4.283779 | B5: 1900 | C5: 2.78738 | D5: 2983 | E5: 1.636061 | F5: 1379 | G5: =A5/E5 -> 2.6183492 | H5: =C5/E5 -> 1.703714 | J5: UP | K5: =K$2+$P$2*K$3 -> 2.8618205 | L5: =L$2+$P$2*L$3 -> 1.894824
A6: 4.004862 | B6: 1890 | C6: 2.841877 | D6: 2968 | E6: 1.460657 | F6: 1379 | G6: =A6/E6 -> 2.7418223 | H6: =C6/E6 -> 1.9456156
A7: 4.456775 | B7: 1897 | C7: 2.702635 | D7: 2962 | E7: 1.501071 | F7: 1388 | G7: =A7/E7 -> 2.9690634 | H7: =C7/E7 -> 1.8004711
A8: 4.438144 | B8: 1887 | C8: 2.625529 | D8: 2964 | E8: 1.479406 | F8: 1372 | G8: =A8/E8 -> 2.99995 | H8: =C8/E8 -> 1.7747184
A9: 3.897313 | B9: 1869 | C9: 2.674914 | D9: 2836 | E9: 1.658613 | F9: 1374 | G9: =A9/E9 -> 2.3497422 | H9: =C9/E9 -> 1.6127415
A10: 3.865841 | B10: 1900 | C10: 2.534795 | D10: 2976 | E10: 1.474665 | F10: 1382 | G10: =A10/E10 -> 2.6215045 | H10: =C10/E10 -> 1.7188955 | K10: Updated
A11: 3.983596 | B11: 1892 | C11: 2.777033 | D11: 2953 | E11: 1.464646 | F11: 1341 | G11: =A11/E11 -> 2.7198354 | H11: =C11/E11 -> 1.8960438
A12: 4.362412 | B12: 1832 | C12: 2.863195 | D12: 2795 | E12: 1.570103 | F12: 1299 | G12: =A12/E12 -> 2.7784241 | H12: =C12/E12 -> 1.8235714
A13: 4.409058 | B13: 1839 | C13: 2.984428 | D13: 2762 | E13: 1.639722 | F13: 1297 | G13: =A13/E13 -> 2.6889058 | H13: =C13/E13 -> 1.8200817
A14: 4.476895 | B14: 1829 | C14: 2.802549 | D14: 2751 | E14: 1.575926 | F14: 1301 | G14: =A14/E14 -> 2.8408028 | H14: =C14/E14 -> 1.7783506
A15: 4.823815 | B15: 1831 | C15: 2.495546 | D15: 2808 | E15: 1.689783 | F15: 1308 | G15: =A15/E15 -> 2.854695 | H15: =C15/E15 -> 1.4768441
A16: 4.408806 | B16: 1825 | C16: 3.05776 | D16: 2763 | E16: 1.466193 | F16: 1298 | G16: =A16/E16 -> 3.0069752 | H16: =C16/E16 -> 2.0855099
A17: 4.060151 | B17: 1836 | C17: 3.03858 | D17: 2812 | E17: 1.707962 | F17: 1292 | G17: =A17/E17 -> 2.3771905 | H17: =C17/E17 -> 1.7790677
A18: 4.877908 | B18: 1836 | C18: 2.834255 | D18: 2805 | E18: 1.744782 | F18: 1307 | G18: =A18/E18 -> 2.795712 | H18: =C18/E18 -> 1.6244178
A19: 3.989496 | B19: 1842 | C19: 2.92324 | D19: 2798 | E19: 1.594895 | F19: 1337 | G19: =A19/E19 -> 2.5014161 | H19: =C19/E19 -> 1.832873
A20: 3.684251 | B20: 2022 | C20: 2.71982 | D20: 3155 | E20: 1.256783 | F20: 1439 | G20: =A20/E20 -> 2.9314933 | H20: =C20/E20 -> 2.1641127
A21: 3.802755 | B21: 2031 | C21: 2.518636 | D21: 3186 | E21: 1.371286 | F21: 1466 | G21: =A21/E21 -> 2.7731305 | H21: =C21/E21 -> 1.8366964
A22: 3.784036 | B22: 2028 | C22: 2.607965 | D22: 3169 | E22: 1.50802 | F22: 1463 | G22: =A22/E22 -> 2.5092744 | H22: =C22/E22 -> 1.7293968
... A31: 3.882318 | B31: 2010 | C31: 2.429524 | D31: 3160 | E31: 1.461706 | F31: 1461 | G31: =A31/E31 -> 2.6560184 | H31: =C31/E31 -> 1.6621154

Sheet 20x20
A1: OptDist | B1: OptItComp | C1: OptStorageDist | D1: OptStorageItComp | E1: AltDist | F1: AltItComp | G1: OptDist/AltDist | H1: OptStorageDist/AltDist | J1: 20x20 | K1: OptDist/AltDist | L1: OptStorageDist/AltDist | O1: alpha | P1: Critical Value
A2: 49.69965 | B2: 449 | C2: 37.86329 | D2: 651 | E2: 21.99245 | F2: 304 | G2: =A2/E2 -> 2.2598505 | H2: =C2/E2 -> 1.7216495 | J2: average | K2: =AVERAGE(G2:G31) -> 2.661902 | L2: =AVERAGE(H2:H31) -> 1.8523455 | O2: 0.975 | P2: =_xlfn.T.INV(O2, 29) -> 2.0452296
A3: 54.33508 | B3: 450 | C3: 34.1025 | D3: 650 | E3: 18.95616 | F3: 304 | G3: =A3/E3 -> 2.8663548 | H3: =C3/E3 -> 1.7990194 | J3: Standard Error | K3: =SQRT(VAR(G2:G31)/COUNT(G2:G31)) -> 0.03504276 | L3: =SQRT(VAR(H2:H31)/COUNT(H2:H31)) -> 0.02364774
A4: 49.10467 | B4: 450 | C4: 32.95445 | D4: 652 | E4: 19.10848 | F4: 304 | G4: =A4/E4 -> 2.5697842 | H4: =C4/E4 -> 1.7245982 | J4: LB | K4: =K$2-$P$2*K$3 -> 2.5902315 | L4: =L$2-$P$2*L$3 -> 1.8039805
A5: 51.93125 | B5: 450 | C5: 35.63751 | D5: 647 | E5: 19.75341 | F5: 304 | G5: =A5/E5 -> 2.6289765 | H5: =C5/E5 -> 1.8041194 | J5: UP | K5: =K$2+$P$2*K$3 -> 2.7335725 | L5: =L$2+$P$2*L$3 -> 1.9007106
A6: 53.66231 | B6: 450 | C6: 37.10359 | D6: 650 | E6: 18.51705 | F6: 304 | G6: =A6/E6 -> 2.8979946 | H6: =C6/E6 -> 2.0037528
A7: 54.58825 | B7: 450 | C7: 34.89489 | D7: 651 | E7: 18.52511 | F7: 304 | G7: =A7/E7 -> 2.9467166 | H7: =C7/E7 -> 1.8836536
A8: 53.1439 | B8: 450 | C8: 35.09035 | D8: 650 | E8: 18.21191 | F8: 304 | G8: =A8/E8 -> 2.9180849 | H8: =C8/E8 -> 1.9267803
A9: 52.01674 | B9: 450 | C9: 38.62664 | D9: 650 | E9: 18.58707 | F9: 304 | G9: =A9/E9 -> 2.7985444 | H9: =C9/E9 -> 2.0781457
A10: 52.93841 | B10: 449 | C10: 35.28532 | D10: 652 | E10: 19.78375 | F10: 304 | G10: =A10/E10 -> 2.6758532 | H10: =C10/E10 -> 1.7835506
A11: 52.49989 | B11: 450 | C11: 36.60737 | D11: 651 | E11: 19.98338 | F11: 305 | G11: =A11/E11 -> 2.6271777 | H11: =C11/E11 -> 1.8318908
A12: 53.42344 | B12: 450 | C12: 38.35366 | D12: 650 | E12: 19.36496 | F12: 304 | G12: =A12/E12 -> 2.7587684 | H12: =C12/E12 -> 1.9805701
A13: 51.35869 | B13: 450 | C13: 32.78657 | D13: 650 | E13: 18.73275 | F13: 307 | G13: =A13/E13 -> 2.7416525 | H13: =C13/E13 -> 1.7502273 | K13: Updated
A14: 51.74665 | B14: 455 | C14: 36.24235 | D14: 661 | E14: 18.70975 | F14: 309 | G14: =A14/E14 -> 2.7657585 | H14: =C14/E14 -> 1.9370836
A15: 50.32483 | B15: 456 | C15: 36.61055 | D15: 661 | E15: 18.7578 | F15: 309 | G15: =A15/E15 -> 2.6828749 | H15: =C15/E15 -> 1.9517507
A16: 53.57358 | B16: 456 | C16: 35.88512 | D16: 660 | E16: 18.22758 | F16: 308 | G16: =A16/E16 -> 2.9391494 | H16: =C16/E16 -> 1.9687265
A17: 50.03366 | B17: 455 | C17: 35.16615 | D17: 661 | E17: 20.44185 | F17: 308 | G17: =A17/E17 -> 2.4476092 | H17: =C17/E17 -> 1.7203017
A18: 52.55239 | B18: 456 | C18: 33.92171 | D18: 662 | E18: 20.96031 | F18: 309 | G18: =A18/E18 -> 2.5072334 | H18: =C18/E18 -> 1.6183783
A19: 48.02157 | B19: 456 | C19: 35.6619 | D19: 662 | E19: 19.59332 | F19: 312 | G19: =A19/E19 -> 2.4509154 | H19: =C19/E19 -> 1.820105
A20: 51.07699 | B20: 455 | C20: 35.35697 | D20: 661 | E20: 20.25308 | F20: 310 | G20: =A20/E20 -> 2.5219369 | H20: =C20/E20 -> 1.7457577
A21: 50.44934 | B21: 455 | C21: 37.49039 | D21: 661 | E21: 18.09554 | F21: 311 | G21: =A21/E21 -> 2.7879433 | H21: =C21/E21 -> 2.0718028
A22: 53.76559 | B22: 456 | C22: 36.06463 | D22: 664 | E22: 20.30102 | F22: 310 | G22: =A22/E22 -> 2.6484182 | H22: =C22/E22 -> 1.7764935
A23: 49.66532 | B23: 456 | C23: 34.19756 | D23: 663 | E23: 20.10135 | F23: 306 | G23: =A23/E23 -> 2.4707455 | H23: =C23/E23 -> 1.7012569
A24: 46.71787 | B24: 456 | C24: 36.23245 | D24: 664 | E24: 18.76681 | F24: 309 | G24: =A24/E24 -> 2.4893879 | H24: =C24/E24 -> 1.9306664
A25: 50.66043 | B25: 456 | C25: 36.38182 | D25: 663 | E25: 20.8893 | F25: 310 | G25: =A25/E25 -> 2.4251856 | H25: =C25/E25 -> 1.7416486
... A31: 54.19598 | B31: 456 | C31: 37.94642 | D31: 662 | E31: 18.20572 | F31: 309 | G31: =A31/E31 -> 2.9768655 | H31: =C31/E31 -> 2.0843131

Sheet Combined Data
G1: =AVERAGE(G4:G273) -> 2.6282893 | H1: =AVERAGE(H4:H273) -> 1.7719587 | L1: 20x20 | M1: OptDist/AltDist | N1: OptStorageDist/AltDist | Q1: alpha | R1: Critical Value
L2: average | M2: =AVERAGE(G4:G273) -> 2.6282893 | N2: =AVERAGE(H4:H273) -> 1.7719587 | Q2: 0.975 | R2: =_xlfn.T.INV(Q2,COUNT(G4:G273)-1) -> 1.968822
A3: OptDist | B3: OptItComp | C3: OptStorageDist | D3: OptStorageItComp | E3: AltDist | F3: AltItComp | G3: OptDist/AltDist | H3: OptStorageDist/AltDist | L3: Standard Error | M3: =SQRT(VAR(G4:G273)/COUNT(G4:G273)) -> 0.021677077 | N3: =SQRT(VAR(H4:H273)/COUNT(H4:H273)) -> 0.014959249
A4: 0.002840427 | B4: 100402 | C4: 0.002271184 | D4: 137978 | E4: 0.0012665766 | F4: 69801 | G4: =A4/E4 -> 2.2426018 | H4: =C4/E4 -> 1.7931675 | L4: LB | M4: =M$2-$R$2*M$3 -> 2.585611 | N4: =N$2-$R$2*N$3 -> 1.7425066
A5: 0.002842859 | B5: 100368 | C5: 0.002073275 | D5: 137827 | E5: 0.000923556 | F5: 69205 | G5: =A5/E5 -> 3.0781663 | H5: =C5/E5 -> 2.2448828 | L5: UP | M5: =M$2+$V$2*M$3 -> 2.6282893 | N5: =N$2+$V$2*N$3 -> 1.7719587
A6: 0.003118339 | B6: 100495 | C6: 0.002276919 | D6: 137620 | E6: 0.0013505878 | F6: 69509 | G6: =A6/E6 -> 2.3088754 | H6: =C6/E6 -> 1.6858726
A7: 0.002995445 | B7: 100369 | C7: 0.002198032 | D7: 137718 | E7: 0.0015114069 | F7: 69335 | G7: =A7/E7 -> 1.9818918 | H7: =C7/E7 -> 1.4542953 | M7: =TEXT(M4,"0.0000") -> 2.5856 | N7: =TEXT(N4,"0.0000") -> 1.7425
A8: 0.00270904 | B8: 100373 | C8: 0.001977451 | D8: 137468 | E8: 0.0014102552 | F8: 69234 | G8: =A8/E8 -> 1.9209573 | H8: =C8/E8 -> 1.4021937 | M8: =TEXT(M5,"0.0000") -> 2.6283 | N8: =TEXT(N5,"0.0000") -> 1.7720
A9: 0.0030045 | B9: 100310 | C9: 0.002191266 | D9: 137540 | E9: 0.001445273 | F9: 68973 | G9: =A9/E9 -> 2.078846 | H9: =C9/E9 -> 1.5161606
A10: 0.002816469 | B10: 100267 | C10: 0.002054813 | D10: 137446 | E10: 0.0012148713 | F10: 69236 | G10: =A10/E10 -> 2.3183271 | H10: =C10/E10 -> 1.6913833
A11: 0.002837338 | B11: 100218 | C11: 0.002070298 | D11: 137554 | E11: 0.0009714971 | F11: 69312 | G11: =A11/E11 -> 2.9205831 | H11: =C11/E11 -> 2.1310388
A12: 0.002767294 | B12: 100265 | C12: 0.00202875 | D12: 137473 | E12: 0.000777676 | F12: 69192 | G12: =A12/E12 -> 3.5584151 | H12: =C12/E12 -> 2.6087342
A13: 0.003025691 | B13: 99777 | C13: 0.002192889 | D13: 137528 | E13: 0.0010163005 | F13: 69092 | G13: =A13/E13 -> 2.9771618 | H13: =C13/E13 -> 2.1577171
A14: 0.002987951 | B14: 100089 | C14: 0.002175721 | D14: 137416 | E14: 0.0013613175 | F14: 69352 | G14: =A14/E14 -> 2.1948965 | H14: =C14/E14 -> 1.5982466
A15: 0.002940598 | B15: 100158 | C15: 0.002139727 | D15: 137375 | E15: 0.0010623355 | F15: 69554 | G15: =A15/E15 -> 2.7680502 | H15: =C15/E15 -> 2.0141725
A16: 0.002883409 | B16: 102075 | C16: 0.002112364 | D16: 139920 | E16: 0.0013161832 | F16: 70746 | G16: =A16/E16 -> 2.1907353 | H16: =C16/E16 -> 1.6049164
A17: 0.002877405 | B17: 101541 | C17: 0.002088275 | D17: 139752 | E17: 0.0011835518 | F17: 70322 | G17: =A17/E17 -> 2.431161 | H17: =C17/E17 -> 1.7644137
A18: 0.002699345 | B18: 101874 | C18: 0.001972315 | D18: 140168 | E18: 0.0011660809 | F18: 70025 | G18: =A18/E18 -> 2.3148866 | H18: =C18/E18 -> 1.6914049
A19: 0.002730091 | B19: 101779 | C19: 0.001977703 | D19: 140131 | E19: 0.0010507192 | F19: 70489 | G19: =A19/E19 -> 2.598307 | H19: =C19/E19 -> 1.8822374
A20: 0.002838335 | B20: 101922 | C20: 0.002066251 | D20: 140032 | E20: 0.0010773613 | F20: 69971 | G20: =A20/E20 -> 2.6345247 | H20: =C20/E20 -> 1.9178812
... A273: 54.19598 | B273: 456 | C273: 37.94642 | D273: 662 | E273: 18.20572 | F273: 309 | G273: =A273/E273 -> 2.9768655 | H273: =C273/E273 -> 2.0843131

Sheet 10x10 with equal learning rates
A1: OptDist | B1: OptItComp | C1: OptStorageDist | D1: OptStorageItComp | E1: AltDist | F1: AltItComp | G1: OptDist/AltDist | H1: OptStorageDist/AltDist | K1: OptDist/AltDist | L1: OptStorageDist/AltDist | O1: alpha | P1: Critical Value
A2: 0.3381159 | B2: 7672 | C2: 0.2353098 | D2: 11718 | E2: 0.5412498 | F2: 5412 | G2: =A2/E2 -> 0.62469473 | H2: =C2/E2 -> 0.43475268 | J2: average | K2: =AVERAGE(G2:G31) -> 0.66549693 | L2: =AVERAGE(H2:H31) -> 0.44711773 | O2: 0.975 | P2: =_xlfn.T.INV(O2, 29) -> 2.0452296
A3: 0.3532914 | B3: 7801 | C3: 0.2362581 | D3: 11805 | E3: 0.4575531 | F3: 5485 | G3: =A3/E3 -> 0.77213202 | H3: =C3/E3 -> 0.51635122 | J3: Standard Error | K3: =SQRT(VAR(G2:G31)/COUNT(G2:G31)) -> 0.013623082 | L3: =SQRT(VAR(H2:H31)/COUNT(H2:H31)) -> 0.011479934
A4: 0.3480205 | B4: 7856 | C4: 0.2358924 | D4: 11759 | E4: 0.4516005 | F4: 5444 | G4: =A4/E4 -> 0.77063799 | H4: =C4/E4 -> 0.52234752 | J4: LB | K4: =K$2-$P$2*K$3 -> 0.6376346 | L4: =L$2-$P$2*L$3 -> 0.42363863
A5: 0.335937 | B5: 7684 | C5: 0.2151977 | D5: 11920 | E5: 0.5741539 | F5: 5606 | G5: =A5/E5 -> 0.58509922 | H5: =C5/E5 -> 0.37480839 | J5: UP | K5: =K$2+$P$2*K$3 -> 0.69335926 | L5: =L$2+$P$2*L$3 -> 0.47059684
A6: 0.3286611 | B6: 7893 | C6: 0.2263471 | D6: 11925 | E6: 0.4717222 | F6: 5529 | G6: =A6/E6 -> 0.69672595 | H6: =C6/E6 -> 0.47983135
A7: 0.3548179 | B7: 7797 | C7: 0.2409821 | D7: 11887 | E7: 0.5077401 | F7: 5485 | G7: =A7/E7 -> 0.69881796 | H7: =C7/E7 -> 0.47461703
A8: 0.355457 | B8: 7600 | C8: 0.236113 | D8: 11762 | E8: 0.5305864 | F8: 5508 | G8: =A8/E8 -> 0.66993236 | H8: =C8/E8 -> 0.44500387
A9: 0.3252229 | B9: 7769 | C9: 0.2281361 | D9: 11781 | E9: 0.5161878 | F9: 5496 | G9: =A9/E9 -> 0.63004763 | H9: =C9/E9 -> 0.44196337
A10: 0.3074031 | B10: 7770 | C10: 0.2320031 | D10: 11513 | E10: 0.5815299 | F10: 5564 | G10: =A10/E10 -> 0.528611 | H10: =C10/E10 -> 0.398953
A11: 0.3397986 | B11: 7849 | C11: 0.2309483 | D11: 11671 | E11: 0.6567099 | F11: 5535 | G11: =A11/E11 -> 0.51742573 | H11: =C11/E11 -> 0.35167477 | K11: Updated
A12: 0.3870856 | B12: 7800 | C12: 0.2209237 | D12: 11836 | E12: 0.5186213 | F12: 5587 | G12: =A12/E12 -> 0.74637428 | H12: =C12/E12 -> 0.4259827
A13: 0.3761302 | B13: 7831 | C13: 0.2363454 | D13: 11773 | E13: 0.6185705 | F13: 5569 | G13: =A13/E13 -> 0.60806359 | H13: =C13/E13 -> 0.38208321
A14: 0.3413487 | B14: 7857 | C14: 0.2340552 | D14: 11841 | E14: 0.502734 | F14: 5581 | G14: =A14/E14 -> 0.67898471 | H14: =C14/E14 -> 0.46556469
A15: 0.3973622 | B15: 7792 | C15: 0.2352772 | D15: 11745 | E15: 0.6055705 | F15: 5570 | G15: =A15/E15 -> 0.65617826 | H15: =C15/E15 -> 0.38852157
A16: 0.3349022 | B16: 7644 | C16: 0.2126489 | D16: 11859 | E16: 0.6158123 | F16: 5497 | G16: =A16/E16 -> 0.54383811 | H16: =C16/E16 -> 0.34531447
A17: 0.3449505 | B17: 7842 | C17: 0.2423897 | D17: 11855 | E17: 0.4827405 | F17: 5592 | G17: =A17/E17 -> 0.71456714 | H17: =C17/E17 -> 0.5021118
A18: 0.3361167 | B18: 7843 | C18: 0.2292305 | D18: 11857 | E18: 0.4964792 | F18: 5594 | G18: =A18/E18 -> 0.67700057 | H18: =C18/E18 -> 0.46171219
A19: 0.3301136 | B19: 7841 | C19: 0.2414488 | D19: 11863 | E19: 0.4484857 | F19: 5565 | G19: =A19/E19 -> 0.73606271 | H19: =C19/E19 -> 0.53836455
A20: 0.3429206 | B20: 7828 | C20: 0.2446022 | D20: 11601 | E20: 0.4353624 | F20: 5557 | G20: =A20/E20 -> 0.78766701 | H20: =C20/E20 -> 0.56183584
A21: 0.3726841 | B21: 7720 | C21: 0.2315717 | D21: 11305 | E21: 0.6491999 | F21: 5334 | G21: =A21/E21 -> 0.57406679 | H21: =C21/E21 -> 0.35670323
A22: 0.3435122 | B22: 7531 | C22: 0.1977329 | D22: 11400 | E22: 0.5378788 | F22: 5411 | G22: =A22/E22 -> 0.63864239 | H22: =C22/E22 -> 0.36761609
A23: 0.3842929 | B23: 7483 | C23: 0.2297181 | D23: 11521 | E23: 0.6341472 | F23: 5391 | G23: =A23/E23 -> 0.60599952 | H23: =C23/E23 -> 0.36224728
... A31: 0.3403657 | B31: 7713 | C31: 0.2801181 | D31: 11810 | E31: 0.5416227 | F31: 5528 | G31: =A31/E31 -> 0.62841845 | H31: =C31/E31 -> 0.51718309

Sheet 10x10 with eta=2eta
A1: OptDist | B1: OptItComp | C1: OptStorageDist | D1: OptStorageItComp | E1: AltDist | F1: AltItComp | G1: OptDist/AltDist | H1: OptStorageDist/AltDist | K1: OptDist/AltDist | L1: OptStorageDist/AltDist | O1: alpha | P1: Critical Value
A2: 0.3453564 | B2: 7816 | C2: 0.2219315 | D2: 11837 | E2: 0.3162086 | F2: 5517 | G2: =A2/E2 -> 1.092179 | H2: =C2/E2 -> 0.70185156 | J2: average | K2: =AVERAGE(G2:G31) -> 1.2746549 | L2: =AVERAGE(H2:H31) -> 0.83158087 | O2: 0.975 | P2: =_xlfn.T.INV(O2, 29) -> 2.0452296
A3: 0.3530706 | B3: 7799 | C3: 0.2334602 | D3: 11903 | E3: 0.255256 | F3: 5591 | G3: =A3/E3 -> 1.383202 | H3: =C3/E3 -> 0.914612 | J3: Standard Error | K3: =SQRT(VAR(G2:G31)/COUNT(G2:G31)) -> 0.028287632 | L3: =SQRT(VAR(H2:H31)/COUNT(H2:H31)) -> 0.020016868
A4: 0.3485901 | B4: 7845 | C4: 0.2242867 | D4: 11938 | E4: 0.2279226 | F4: 5594 | G4: =A4/E4 -> 1.5294231 | H4: =C4/E4 -> 0.98404765 | J4: LB | K4: =K$2-$P$2*K$3 -> 1.2168002 | L4: =L$2-$P$2*L$3 -> 0.79064178
A5: 0.3188931 | B5: 7821 | C5: 0.206999 | D5: 11852 | E5: 0.2648355 | F5: 5468 | G5: =A5/E5 -> 1.2041177 | H5: =C5/E5 -> 0.78161349 | J5: UP | K5: =K$2+$P$2*K$3 -> 1.3325096 | L5: =L$2+$P$2*L$3 -> 0.87251996
A6: 0.3510314 | B6: 7777 | C6: 0.2340812 | D6: 11800 | E6: 0.2882015 | F6: 5524 | G6: =A6/E6 -> 1.2180068 | H6: =C6/E6 -> 0.81221368
A7: 0.3524893 | B7: 7817 | C7: 0.231445 | D7: 11841 | E7: 0.2716515 | F7: 5543 | G7: =A7/E7 -> 1.2975791 | H7: =C7/E7 -> 0.85199235
A8: 0.3886813 | B8: 7813 | C8: 0.2249094 | D8: 11902 | E8: 0.2822107 | F8: 5576 | G8: =A8/E8 -> 1.3772734 | H8: =C8/E8 -> 0.79695561
A9: 0.3182283 | B9: 7817 | C9: 0.2447511 | D9: 11942 | E9: 0.2373522 | F9: 5617 | G9: =A9/E9 -> 1.340743 | H9: =C9/E9 -> 1.0311727
A10: 0.2982445 | B10: 7878 | C10: 0.206277 | D10: 11948 | E10: 0.2843731 | F10: 5601 | G10: =A10/E10 -> 1.0487789 | H10: =C10/E10 -> 0.72537452 | K10: Updated
A11: 0.3337733 | B11: 7783 | C11: 0.2233203 | D11: 11837 | E11: 0.2995919 | F11: 5543 | G11: =A11/E11 -> 1.1140932 | H11: =C11/E11 -> 0.74541501
A12: 0.3846655 | B12: 7811 | C12: 0.222326 | D12: 11828 | E12: 0.2309196 | F12: 5557 | G12: =A12/E12 -> 1.6657984 | H12: =C12/E12 -> 0.96278532
A13: 0.3772183 | B13: 7815 | C13: 0.2358558 | D13: 11853 | E13: 0.2444435 | F13: 5549 | G13: =A13/E13 -> 1.5431717 | H13: =C13/E13 -> 0.96486836
A14: 0.3412073 | B14: 7817 | C14: 0.234046 | D14: 11842 | E14: 0.2463866 | F14: 5539 | G14: =A14/E14 -> 1.3848452 | H14: =C14/E14 -> 0.94991367
A15: 0.3941284 | B15: 7825 | C15: 0.2206126 | D15: 11823 | E15: 0.2895327 | F15: 5504 | G15: =A15/E15 -> 1.3612569 | H15: =C15/E15 -> 0.76196091
A16: 0.3815424 | B16: 7778 | C16: 0.211911 | D16: 11840 | E16: 0.2959048 | F16: 5550 | G16: =A16/E16 -> 1.2894093 | H16: =C16/E16 -> 0.71614587
A17: 0.3413936 | B17: 7812 | C17: 0.2425011 | D17: 11845 | E17: 0.2968883 | F17: 5557 | G17: =A17/E17 -> 1.1499059 | H17: =C17/E17 -> 0.81680922
A18: 0.3332432 | B18: 7827 | C18: 0.2307898 | D18: 11803 | E18: 0.2496009 | F18: 5558 | G18: =A18/E18 -> 1.3351042 | H18: =C18/E18 -> 0.92463529
A19: 0.3246651 | B19: 7812 | C19: 0.2423787 | D19: 11822 | E19: 0.2859473 | F19: 5548 | G19: =A19/E19 -> 1.1354019 | H19: =C19/E19 -> 0.84763416
A20: 0.3305129 | B20: 7789 | C20: 0.2315401 | D20: 11839 | E20: 0.2820921 | F20: 5551 | G20: =A20/E20 -> 1.1716489 | H20: =C20/E20 -> 0.82079612
A21: 0.3708496 | B21: 7809 | C21: 0.2328953 | D21: 11819 | E21: 0.2717572 | F21: 5559 | G21: =A21/E21 -> 1.3646358 | H21: =C21/E21 -> 0.85699772
A22: 0.3501441 | B22: 7811 | C22: 0.21748 | D22: 11822 | E22: 0.2949222 | F22: 5513 | G22: =A22/E22 -> 1.1872423 | H22: =C22/E22 -> 0.73741482
... A31: 0.3861503 | B31: 7540 | C31: 0.2164344 | D31: 11282 | E31: 0.2956808 | F31: 5348 | G31: =A31/E31 -> 1.3059702 | H31: =C31/E31 -> 0.73198666
